BEGIN:VCALENDAR
VERSION:2.0
PRODID:-//STUV Landshut - ECPv6.15.13//NONSGML v1.0//EN
CALSCALE:GREGORIAN
METHOD:PUBLISH
X-ORIGINAL-URL:https://www.stuv.la
X-WR-CALDESC:Veranstaltungen für STUV Landshut
REFRESH-INTERVAL;VALUE=DURATION:PT1H
X-Robots-Tag:noindex
X-PUBLISHED-TTL:PT1H
BEGIN:VTIMEZONE
TZID:Europe/Berlin
BEGIN:DAYLIGHT
TZOFFSETFROM:+0100
TZOFFSETTO:+0200
TZNAME:CEST
DTSTART:20210328T010000
END:DAYLIGHT
BEGIN:STANDARD
TZOFFSETFROM:+0200
TZOFFSETTO:+0100
TZNAME:CET
DTSTART:20211031T010000
END:STANDARD
BEGIN:DAYLIGHT
TZOFFSETFROM:+0100
TZOFFSETTO:+0200
TZNAME:CEST
DTSTART:20220327T010000
END:DAYLIGHT
BEGIN:STANDARD
TZOFFSETFROM:+0200
TZOFFSETTO:+0100
TZNAME:CET
DTSTART:20221030T010000
END:STANDARD
BEGIN:DAYLIGHT
TZOFFSETFROM:+0100
TZOFFSETTO:+0200
TZNAME:CEST
DTSTART:20230326T010000
END:DAYLIGHT
BEGIN:STANDARD
TZOFFSETFROM:+0200
TZOFFSETTO:+0100
TZNAME:CET
DTSTART:20231029T010000
END:STANDARD
END:VTIMEZONE
BEGIN:VEVENT
DTSTART;TZID=Europe/Berlin:20221123T143000
DTEND;TZID=Europe/Berlin:20221123T180000
DTSTAMP:20260421T185208
CREATED:20221117T112327Z
LAST-MODIFIED:20221117T112327Z
UID:4144-1669213800-1669226400@www.stuv.la
SUMMARY:Kicker-Turnier
DESCRIPTION:Wir wollen euch zu unserem winterlichen Kickerturnier einladen ⚽❄ \nWann: Mi.\, der 23.11.22\nUhrzeit: 14:30 – 18:00\nWo: Innenhof G-Gebäude \nDamit es richtig gemütlich wird\, gibt es Glühwein💫 und Kinderpunsch✨ \nIhr braucht dieses mal keine Teams\, sondern könnt einfach vorbeikommen und drauf loskickern ⚽\nWer am häufigsten gewinnt\, erhält natürlich einen Preis 😉\nAußerdem verlosen wir unter den Teilnehmer*innen einen Gutschein für das Ergormar.
URL:https://www.stuv.la/events/kicker-turnier/
LOCATION:Innenhof – G-Gebäude\, Am Lurzenhof 1\, Landshut\, Bayern\, 84036\, Deutschland
ORGANIZER;CN="STUV Landshut":MAILTO:mail@stuv.la
END:VEVENT
BEGIN:VEVENT
DTSTART;TZID=Europe/Berlin:20221123T170000
DTEND;TZID=Europe/Berlin:20221123T200000
DTSTAMP:20260421T185208
CREATED:20221117T111916Z
LAST-MODIFIED:20221117T132616Z
UID:4136-1669222800-1669233600@www.stuv.la
SUMMARY:2. Sitzung des studentischen Parlaments
DESCRIPTION:Am Mittwoch\, den 23.11.2022 laden wir Sie herzlich zu unserer 2. Parlamentssitzung um 17:00 Uhr ein.\nDie Sitzung wird im Raum G007 stattfinden.
URL:https://www.stuv.la/events/2-sitzung-des-studentischen-parlaments/
LOCATION:G0 07 – Audimax
END:VEVENT
END:VCALENDAR