BEGIN:VCALENDAR
VERSION:2.0
PRODID:-//STUV Landshut - ECPv6.15.13//NONSGML v1.0//EN
CALSCALE:GREGORIAN
METHOD:PUBLISH
X-WR-CALNAME:STUV Landshut
X-ORIGINAL-URL:https://www.stuv.la
X-WR-CALDESC:Veranstaltungen für STUV Landshut
REFRESH-INTERVAL;VALUE=DURATION:PT1H
X-Robots-Tag:noindex
X-PUBLISHED-TTL:PT1H
BEGIN:VTIMEZONE
TZID:Europe/Berlin
BEGIN:DAYLIGHT
TZOFFSETFROM:+0100
TZOFFSETTO:+0200
TZNAME:CEST
DTSTART:20210328T010000
END:DAYLIGHT
BEGIN:STANDARD
TZOFFSETFROM:+0200
TZOFFSETTO:+0100
TZNAME:CET
DTSTART:20211031T010000
END:STANDARD
BEGIN:DAYLIGHT
TZOFFSETFROM:+0100
TZOFFSETTO:+0200
TZNAME:CEST
DTSTART:20220327T010000
END:DAYLIGHT
BEGIN:STANDARD
TZOFFSETFROM:+0200
TZOFFSETTO:+0100
TZNAME:CET
DTSTART:20221030T010000
END:STANDARD
BEGIN:DAYLIGHT
TZOFFSETFROM:+0100
TZOFFSETTO:+0200
TZNAME:CEST
DTSTART:20230326T010000
END:DAYLIGHT
BEGIN:STANDARD
TZOFFSETFROM:+0200
TZOFFSETTO:+0100
TZNAME:CET
DTSTART:20231029T010000
END:STANDARD
END:VTIMEZONE
BEGIN:VEVENT
DTSTART;TZID=Europe/Berlin:20221201T210000
DTEND;TZID=Europe/Berlin:20221202T030000
DTSTAMP:20260421T172427
CREATED:20221118T203650Z
LAST-MODIFIED:20221119T135043Z
UID:4162-1669928400-1669950000@www.stuv.la
SUMMARY:Winterfest 22
DESCRIPTION:
URL:https://www.stuv.la/events/winterfest-22/
LOCATION:G0 07 – Audimax
END:VEVENT
BEGIN:VEVENT
DTSTART;TZID=Europe/Berlin:20221207T180000
DTEND;TZID=Europe/Berlin:20221207T200000
DTSTAMP:20260421T172427
CREATED:20221207T210713Z
LAST-MODIFIED:20221207T210713Z
UID:4234-1670436000-1670443200@www.stuv.la
SUMMARY:3. Sitzung des studentischen Parlaments
DESCRIPTION:Am Mittwoch\, den 14.13.2022 laden wir Sie herzlich zu unserer 2. Parlamentssitzung um 18:00 Uhr ein.\nDie Sitzung wird im Raum G0 15 stattfinden.
URL:https://www.stuv.la/events/3-sitzung-des-studentischen-parlaments/
LOCATION:G0 15
END:VEVENT
END:VCALENDAR