BEGIN:VCALENDAR
VERSION:2.0
PRODID:-//STUV Landshut - ECPv6.15.13//NONSGML v1.0//EN
CALSCALE:GREGORIAN
METHOD:PUBLISH
X-WR-CALNAME:STUV Landshut
X-ORIGINAL-URL:https://www.stuv.la
X-WR-CALDESC:Veranstaltungen für STUV Landshut
REFRESH-INTERVAL;VALUE=DURATION:PT1H
X-Robots-Tag:noindex
X-PUBLISHED-TTL:PT1H
BEGIN:VTIMEZONE
TZID:Europe/Berlin
BEGIN:DAYLIGHT
TZOFFSETFROM:+0100
TZOFFSETTO:+0200
TZNAME:CEST
DTSTART:20220327T010000
END:DAYLIGHT
BEGIN:STANDARD
TZOFFSETFROM:+0200
TZOFFSETTO:+0100
TZNAME:CET
DTSTART:20221030T010000
END:STANDARD
BEGIN:DAYLIGHT
TZOFFSETFROM:+0100
TZOFFSETTO:+0200
TZNAME:CEST
DTSTART:20230326T010000
END:DAYLIGHT
BEGIN:STANDARD
TZOFFSETFROM:+0200
TZOFFSETTO:+0100
TZNAME:CET
DTSTART:20231029T010000
END:STANDARD
BEGIN:DAYLIGHT
TZOFFSETFROM:+0100
TZOFFSETTO:+0200
TZNAME:CEST
DTSTART:20240331T010000
END:DAYLIGHT
BEGIN:STANDARD
TZOFFSETFROM:+0200
TZOFFSETTO:+0100
TZNAME:CET
DTSTART:20241027T010000
END:STANDARD
END:VTIMEZONE
BEGIN:VEVENT
DTSTART;TZID=Europe/Berlin:20230213T180000
DTEND;TZID=Europe/Berlin:20230213T180000
DTSTAMP:20260421T144738
CREATED:20230109T103611Z
LAST-MODIFIED:20230213T133657Z
UID:4253-1676311200-1676311200@www.stuv.la
SUMMARY:Sitzung des Studentischen Parlaments
DESCRIPTION:
URL:https://www.stuv.la/events/stupa/
LOCATION:G0 15
ORGANIZER;CN="STUV Landshut":MAILTO:mail@stuv.la
END:VEVENT
BEGIN:VEVENT
DTSTART;VALUE=DATE:20230215
DTEND;VALUE=DATE:20230223
DTSTAMP:20260421T144738
CREATED:20221130T102143Z
LAST-MODIFIED:20221130T102143Z
UID:4201-1676419200-1677110399@www.stuv.la
SUMMARY:Rückmeldung für das Sommersemester
DESCRIPTION:In diesem Zeitraum müsst Ihr euch für das Sommersemester Rückmelden
URL:https://www.stuv.la/events/rueckmeldung-fuer-das-sommersemester/
END:VEVENT
BEGIN:VEVENT
DTSTART;TZID=Europe/Berlin:20230224T150000
DTEND;TZID=Europe/Berlin:20230224T150000
DTSTAMP:20260421T144738
CREATED:20221130T102226Z
LAST-MODIFIED:20221130T102226Z
UID:4204-1677250800-1677250800@www.stuv.la
SUMMARY:Notenbekanntgabe
DESCRIPTION:
URL:https://www.stuv.la/events/notenbekanntgabe/
END:VEVENT
END:VCALENDAR